BEGIN:VCALENDAR
PRODID:-//Calendar export
VERSION:2.0
X-WR-TIMEZONE:Etc/GMT
BEGIN:VTIMEZONE
TZID:GMT Standard Time
BEGIN:STANDARD
TZOFFSETFROM:+0000
TZOFFSETTO:+0000
END:STANDARD
END:VTIMEZONE
BEGIN:VEVENT
UID:AE90409
DTSTAMP:20260425T104900Z
SUMMARY:On Campus: Herzing University
CLASS:PUBLIC
DESCRIPTION:Thinking of transferring to Herzing University? 
STATUS:CONFIRMED
PRIORITY:1
DTSTART:20191017T160000Z
DTEND:20191017T180000Z
TRANSP:OPAQUE
END:VEVENT
END:VCALENDAR
